BEGIN:VCALENDAR
VERSION:2.0
PRODID:-//Tukios.com/
BEGIN:VEVENT
UID:03f4d980-8711-4e91-b5ea-b95926112b07@www.nelsonfunerals.com
DTSTAMP:20260420T212332Z
DTSTART:20260422
SUMMARY:Interment
DESCRIPTION:
URL:https://www.nelsonfunerals.com/obituaries/jose-fernandez
LOCATION:Mt. Hope Cemetery 1001 Villa Street  Elgin IL 60120
GEO:42.0222275;-88.2515941
END:VEVENT
END:VCALENDAR