BEGIN:VCALENDAR
VERSION:2.0
PRODID:-//Tukios.com/
BEGIN:VEVENT
UID:59851ed0-4069-4c41-80c5-32e514e3e25e@www.nelsonfunerals.com
DTSTAMP:20260420T213205Z
DTSTART:20260422T140000Z
DTEND:20260422T150000Z
SUMMARY:Visitation
DESCRIPTION:
URL:https://www.nelsonfunerals.com/obituaries/jose-fernandez
LOCATION:Nelson Funeral Home 820 Talcott Road  Park Ridge IL 60068
GEO:41.9985486;-87.8356519
END:VEVENT
END:VCALENDAR