BEGIN:VCALENDAR
VERSION:2.0
PRODID:-//Tukios.com/
BEGIN:VEVENT
UID:fc2ead02-0a72-4c6b-87c7-4c660e843ff5@www.nelsonfunerals.com
DTSTAMP:20260420T212527Z
DTSTART:20260422T000000Z
DTEND:20260422T010000Z
SUMMARY:Prayer Service
DESCRIPTION:
URL:https://www.nelsonfunerals.com/obituaries/jose-fernandez
LOCATION:Nelson Funeral Home 820 Talcott Road  Park Ridge IL 60068
GEO:41.9985486;-87.8356519
END:VEVENT
END:VCALENDAR