BEGIN:VCALENDAR
VERSION:2.0
PRODID:-//Tukios.com/
BEGIN:VEVENT
UID:4086e5d7-cf73-4895-9787-9e86532bd88d@www.nelsonfunerals.com
DTSTAMP:20260420T212554Z
DTSTART:20260421T210000Z
DTEND:20260422T010000Z
SUMMARY:Visitation
DESCRIPTION:
URL:https://www.nelsonfunerals.com/obituaries/jose-fernandez
LOCATION:Nelson Funeral Home 820 Talcott Road  Park Ridge IL 60068
GEO:41.9985486;-87.8356519
END:VEVENT
END:VCALENDAR